BEGIN:VCALENDAR
VERSION:2.0
PRODID:-//eventon.com NONSGML v1.0//EN
CALSCALE:GREGORIAN
METHOD:PUBLISH
BEGIN:VEVENT
UID:69e78d8ec5132
DTSTAMP:20260421T144534Z
DTSTART:20221228T203000Z
DTEND:20221228T225000Z
LOCATION:
SUMMARY:Naked Night
DESCRIPTION:Entradas\nhttps://salavesta.com/events/naked-night/
URL:https://salavesta.com/events/naked-night/
END:VEVENT
END:VCALENDAR