BEGIN:VCALENDAR
VERSION:2.0
PRODID:-//eventon.com NONSGML v1.0//EN
CALSCALE:GREGORIAN
METHOD:PUBLISH
BEGIN:VEVENT
UID:69e7319b660a0
DTSTAMP:20260421T081315Z
DTSTART:20221216T200000Z
DTEND:20221216T225000Z
LOCATION:
SUMMARY:Marina Lara
DESCRIPTION:Comprar entradas\nhttps://salavesta.com/events/marina-lara/
URL:https://salavesta.com/events/marina-lara/
END:VEVENT
END:VCALENDAR