BEGIN:VCALENDAR
VERSION:2.0
PRODID:-//eventon.com NONSGML v1.0//EN
CALSCALE:GREGORIAN
METHOD:PUBLISH
BEGIN:VEVENT
UID:69e744f25d023
DTSTAMP:20260421T093546Z
DTSTART:20221117T200100Z
DTEND:20221117T065300Z
LOCATION:
SUMMARY:Inra + Insúa
DESCRIPTION:Comprar Entradas\nhttps://salavesta.com/events/inra-insua/
URL:https://salavesta.com/events/inra-insua/
END:VEVENT
END:VCALENDAR