BEGIN:VCALENDAR
VERSION:2.0
PRODID:-//eventon.com NONSGML v1.0//EN
CALSCALE:GREGORIAN
METHOD:PUBLISH
BEGIN:VEVENT
UID:69e6374838f08
DTSTAMP:20260420T142512Z
DTSTART:20220601T190000Z
DTEND:20220601T215000Z
LOCATION:
SUMMARY:XUR
DESCRIPTION:XUR\nhttps://salavesta.com/events/xur/
URL:https://salavesta.com/events/xur/
END:VEVENT
END:VCALENDAR