BEGIN:VCALENDAR
VERSION:2.0
PRODID:-//eventon.com NONSGML v1.0//EN
CALSCALE:GREGORIAN
METHOD:PUBLISH
BEGIN:VEVENT
UID:69e731f424d29
DTSTAMP:20260421T081444Z
DTSTART:20220514T193000Z
DTEND:20220514T215000Z
LOCATION:
SUMMARY:Concierto de Rojo Cardinal + Delobos en Madrid
DESCRIPTION:COMPRAR ENTRADAS\nhttps://salavesta.com/events/concierto-de-roj
 o-cardinal-delobos-en-madrid/
URL:https://salavesta.com/events/concierto-de-rojo-cardinal-delobos-en-madrid/
END:VEVENT
END:VCALENDAR