BEGIN:VCALENDAR
VERSION:2.0
PRODID:-//eventon.com NONSGML v1.0//EN
CALSCALE:GREGORIAN
METHOD:PUBLISH
BEGIN:VEVENT
UID:69e7464a7b914
DTSTAMP:20260421T094130Z
DTSTART:20220324T203000Z
DTEND:20220324T225000Z
LOCATION:
SUMMARY:MIGUEL OSA
DESCRIPTION:JUEVES\,  24 DE MARZO COMPRAR ENTRADAS\nhttps://salavesta.com/e
 vents/miguel-osa/
URL:https://salavesta.com/events/miguel-osa/
END:VEVENT
END:VCALENDAR