BEGIN:VCALENDAR
VERSION:2.0
PRODID:-//eventon.com NONSGML v1.0//EN
CALSCALE:GREGORIAN
METHOD:PUBLISH
BEGIN:VEVENT
UID:69e732182981d
DTSTAMP:20260421T081520Z
DTSTART:20211202T200000Z
DTEND:20211202T220000Z
LOCATION:Sala Vesta calle Barquillo\, 29
SUMMARY:Marina Carmona
DESCRIPTION:Marina Carmona\nhttps://salavesta.com/events/marina-carmona/
URL:https://salavesta.com/events/marina-carmona/
END:VEVENT
END:VCALENDAR