BEGIN:VCALENDAR
VERSION:2.0
PRODID:-//eventon.com NONSGML v1.0//EN
CALSCALE:GREGORIAN
METHOD:PUBLISH
BEGIN:VEVENT
UID:69e732d5d3e69
DTSTAMP:20260421T081829Z
DTSTART:20211126T200000Z
DTEND:20211126T220000Z
LOCATION:Sala Vesta calle Barquillo\, 29
SUMMARY:Conciertos Alhambra: MAREN
DESCRIPTION:Conciertos Alhambra: MAREN\nhttps://salavesta.com/events/concie
 rtos-alhambra-maren/
URL:https://salavesta.com/events/conciertos-alhambra-maren/
END:VEVENT
END:VCALENDAR