BEGIN:VCALENDAR
VERSION:2.0
PRODID:-//eventon.com NONSGML v1.0//EN
CALSCALE:GREGORIAN
METHOD:PUBLISH
BEGIN:VEVENT
UID:69e731cf127f8
DTSTAMP:20260421T081407Z
DTSTART:20211009T190000Z
DTEND:20211009T103800Z
LOCATION:Sala Vesta calle Barquillo\, 29
SUMMARY:THE DAWLINS
DESCRIPTION:THE DAWLINS\nhttps://salavesta.com/events/the-dawlins/
URL:https://salavesta.com/events/the-dawlins/
END:VEVENT
END:VCALENDAR