BEGIN:VCALENDAR
VERSION:2.0
PRODID:-//eventon.com NONSGML v1.0//EN
CALSCALE:GREGORIAN
METHOD:PUBLISH
BEGIN:VEVENT
UID:69e7846bd1350
DTSTAMP:20260421T140635Z
DTSTART:20210904T190000Z
DTEND:20210904T091000Z
LOCATION:Sala Vesta calle Barquillo\, 29
SUMMARY:Chus Navajo
DESCRIPTION:Chus Navajo\nhttps://salavesta.com/events/chus-navajo/
URL:https://salavesta.com/events/chus-navajo/
END:VEVENT
END:VCALENDAR