BEGIN:VCALENDAR
VERSION:2.0
PRODID:-//eventon.com NONSGML v1.0//EN
CALSCALE:GREGORIAN
METHOD:PUBLISH
BEGIN:VEVENT
UID:69e732e1a01f5
DTSTAMP:20260421T081841Z
DTSTART:20260207T200000Z
DTEND:20260207T225900Z
LOCATION:
SUMMARY:Berted + V44
DESCRIPTION:Entradas\nhttps://salavesta.com/events/berted-v44/
URL:https://salavesta.com/events/berted-v44/
END:VEVENT
END:VCALENDAR