BEGIN:VCALENDAR
VERSION:2.0
PRODID:-//eventon.com NONSGML v1.0//EN
CALSCALE:GREGORIAN
METHOD:PUBLISH
BEGIN:VEVENT
UID:69e7319c03877
DTSTAMP:20260421T081316Z
DTSTART:20260220T200000Z
DTEND:20260220T225900Z
LOCATION:
SUMMARY:VERA PEDRO
DESCRIPTION:Entradas\nhttps://salavesta.com/events/vera-pedro/
URL:https://salavesta.com/events/vera-pedro/
END:VEVENT
END:VCALENDAR