BEGIN:VCALENDAR
VERSION:2.0
PRODID:-//eventon.com NONSGML v1.0//EN
CALSCALE:GREGORIAN
METHOD:PUBLISH
BEGIN:VEVENT
UID:69e7329c04d62
DTSTAMP:20260421T081732Z
DTSTART:20260205T203000Z
DTEND:20260205T225900Z
LOCATION:
SUMMARY:KIKE ARANZANA
DESCRIPTION:Entradas\nhttps://salavesta.com/events/kike-aranzana/
URL:https://salavesta.com/events/kike-aranzana/
END:VEVENT
END:VCALENDAR