BEGIN:VCALENDAR
VERSION:2.0
PRODID:-//eventon.com NONSGML v1.0//EN
CALSCALE:GREGORIAN
METHOD:PUBLISH
BEGIN:VEVENT
UID:69e7328176ce4
DTSTAMP:20260421T081705Z
DTSTART:20260123T200000Z
DTEND:20260123T225900Z
LOCATION:
SUMMARY:Benioff 2026
DESCRIPTION:Entradas\nhttps://salavesta.com/events/benioff-2026/
URL:https://salavesta.com/events/benioff-2026/
END:VEVENT
END:VCALENDAR