BEGIN:VCALENDAR
VERSION:2.0
PRODID:-//eventon.com NONSGML v1.0//EN
CALSCALE:GREGORIAN
METHOD:PUBLISH
BEGIN:VEVENT
UID:69e732811228e
DTSTAMP:20260421T081705Z
DTSTART:20260109T203000Z
DTEND:20260109T225900Z
LOCATION:
SUMMARY:NURIA HERNÁNDEZ
DESCRIPTION:Entradas\nhttps://salavesta.com/events/nuria-hernandez/
URL:https://salavesta.com/events/nuria-hernandez/
END:VEVENT
END:VCALENDAR