BEGIN:VCALENDAR
VERSION:2.0
PRODID:-//eventon.com NONSGML v1.0//EN
CALSCALE:GREGORIAN
METHOD:PUBLISH
BEGIN:VEVENT
UID:69e9e02b60609
DTSTAMP:20260423T090235Z
DTSTART:20251212T200000Z
DTEND:20251212T225900Z
LOCATION:
SUMMARY:Nacho Rosa
DESCRIPTION:Entradas\nhttps://salavesta.com/events/nacho-rosa/
URL:https://salavesta.com/events/nacho-rosa/
END:VEVENT
END:VCALENDAR