BEGIN:VCALENDAR
VERSION:2.0
PRODID:-//eventon.com NONSGML v1.0//EN
CALSCALE:GREGORIAN
METHOD:PUBLISH
BEGIN:VEVENT
UID:69e744726a22c
DTSTAMP:20260421T093338Z
DTSTART:20251203T200000Z
DTEND:20251203T225900Z
LOCATION:
SUMMARY:Vik Faded & Rizhko
DESCRIPTION:Entradas\nhttps://salavesta.com/events/vik-faded-rizhko/
URL:https://salavesta.com/events/vik-faded-rizhko/
END:VEVENT
END:VCALENDAR