BEGIN:VCALENDAR
VERSION:2.0
PRODID:-//eventon.com NONSGML v1.0//EN
CALSCALE:GREGORIAN
METHOD:PUBLISH
BEGIN:VEVENT
UID:69e732d53007d
DTSTAMP:20260421T081829Z
DTSTART:20251108T200000Z
DTEND:20251108T225900Z
LOCATION:
SUMMARY:ALBA DEL VALS
DESCRIPTION:Entradas\nhttps://salavesta.com/events/alba-del-vals/
URL:https://salavesta.com/events/alba-del-vals/
END:VEVENT
END:VCALENDAR