BEGIN:VCALENDAR
VERSION:2.0
PRODID:-//eventon.com NONSGML v1.0//EN
CALSCALE:GREGORIAN
METHOD:PUBLISH
BEGIN:VEVENT
UID:69e7329b29180
DTSTAMP:20260421T081731Z
DTSTART:20251120T200000Z
DTEND:20251120T225900Z
LOCATION:
SUMMARY:CMA
DESCRIPTION:Entradas\nhttps://salavesta.com/events/cma/
URL:https://salavesta.com/events/cma/
END:VEVENT
END:VCALENDAR