BEGIN:VCALENDAR
VERSION:2.0
PRODID:-//eventon.com NONSGML v1.0//EN
CALSCALE:GREGORIAN
METHOD:PUBLISH
BEGIN:VEVENT
UID:69e732336c2ea
DTSTAMP:20260421T081547Z
DTSTART:20251025T190000Z
DTEND:20251025T215900Z
LOCATION:
SUMMARY:Sweet Q y Lorreine
DESCRIPTION:Entradas\nhttps://salavesta.com/events/sweet-q-y-lorreine/
URL:https://salavesta.com/events/sweet-q-y-lorreine/
END:VEVENT
END:VCALENDAR