BEGIN:VCALENDAR
VERSION:2.0
PRODID:-//eventon.com NONSGML v1.0//EN
CALSCALE:GREGORIAN
METHOD:PUBLISH
BEGIN:VEVENT
UID:69ebbd1c0d4f1
DTSTAMP:20260424T185732Z
DTSTART:20251017T190000Z
DTEND:20251017T215900Z
LOCATION:
SUMMARY:MAREF
DESCRIPTION:Entradas\nhttps://salavesta.com/events/maref/
URL:https://salavesta.com/events/maref/
END:VEVENT
END:VCALENDAR