BEGIN:VCALENDAR
VERSION:2.0
PRODID:-//eventon.com NONSGML v1.0//EN
CALSCALE:GREGORIAN
METHOD:PUBLISH
BEGIN:VEVENT
UID:69e732801adee
DTSTAMP:20260421T081704Z
DTSTART:20250411T190000Z
DTEND:20250411T215900Z
LOCATION:
SUMMARY:MARCELO RUBIO
DESCRIPTION:Entradas\nhttps://salavesta.com/events/marcelo-rubio/
URL:https://salavesta.com/events/marcelo-rubio/
END:VEVENT
END:VCALENDAR