BEGIN:VCALENDAR
VERSION:2.0
PRODID:-//eventon.com NONSGML v1.0//EN
CALSCALE:GREGORIAN
METHOD:PUBLISH
BEGIN:VEVENT
UID:69e7328014511
DTSTAMP:20260421T081704Z
DTSTART:20250425T183000Z
DTEND:20250425T215900Z
LOCATION:
SUMMARY:MARTTA SANZ
DESCRIPTION:Entradas\nhttps://salavesta.com/events/martta-sanz/
URL:https://salavesta.com/events/martta-sanz/
END:VEVENT
END:VCALENDAR