BEGIN:VCALENDAR
VERSION:2.0
PRODID:-//eventon.com NONSGML v1.0//EN
CALSCALE:GREGORIAN
METHOD:PUBLISH
BEGIN:VEVENT
UID:69e9dc73d2397
DTSTAMP:20260423T084643Z
DTSTART:20250227T200000Z
DTEND:20250227T225900Z
LOCATION:
SUMMARY:SUPER POP MADRIZ
DESCRIPTION:Entradas\nhttps://salavesta.com/events/super-pop-madriz/
URL:https://salavesta.com/events/super-pop-madriz/
END:VEVENT
END:VCALENDAR