BEGIN:VCALENDAR
VERSION:2.0
PRODID:-//eventon.com NONSGML v1.0//EN
CALSCALE:GREGORIAN
METHOD:PUBLISH
BEGIN:VEVENT
UID:69e732e065f43
DTSTAMP:20260421T081840Z
DTSTART:20241218T200000Z
DTEND:20241218T225900Z
LOCATION:
SUMMARY:LAS ICÓNICAS
DESCRIPTION:Entradas\nhttps://salavesta.com/events/las-iconicas/
URL:https://salavesta.com/events/las-iconicas/
END:VEVENT
END:VCALENDAR