BEGIN:VCALENDAR
VERSION:2.0
PRODID:-//eventon.com NONSGML v1.0//EN
CALSCALE:GREGORIAN
METHOD:PUBLISH
BEGIN:VEVENT
UID:69e887ef34143
DTSTAMP:20260422T083351Z
DTSTART:20241115T200000Z
DTEND:20241115T225900Z
LOCATION:
SUMMARY:ADELYNE + MORANES
DESCRIPTION:Entradas\nhttps://salavesta.com/events/adelyne-moranes/
URL:https://salavesta.com/events/adelyne-moranes/
END:VEVENT
END:VCALENDAR