BEGIN:VCALENDAR
VERSION:2.0
PRODID:-//eventon.com NONSGML v1.0//EN
CALSCALE:GREGORIAN
METHOD:PUBLISH
BEGIN:VEVENT
UID:69e731cfdf3a7
DTSTAMP:20260421T081407Z
DTSTART:20241011T190000Z
DTEND:20241011T215900Z
LOCATION:
SUMMARY:VRENO YG + BBY DEMON
DESCRIPTION:Entradas\nhttps://salavesta.com/events/vreno-yg-bby-demon/
URL:https://salavesta.com/events/vreno-yg-bby-demon/
END:VEVENT
END:VCALENDAR