BEGIN:VCALENDAR
VERSION:2.0
PRODID:-//eventon.com NONSGML v1.0//EN
CALSCALE:GREGORIAN
METHOD:PUBLISH
BEGIN:VEVENT
UID:69e731e427e76
DTSTAMP:20260421T081428Z
DTSTART:20241003T190000Z
DTEND:20241003T215900Z
LOCATION:
SUMMARY:VENGA\,  BEA
DESCRIPTION:Entradas\nhttps://salavesta.com/events/venga-bea/
URL:https://salavesta.com/events/venga-bea/
END:VEVENT
END:VCALENDAR