BEGIN:VCALENDAR
VERSION:2.0
PRODID:-//eventon.com NONSGML v1.0//EN
CALSCALE:GREGORIAN
METHOD:PUBLISH
BEGIN:VEVENT
UID:69e8898987336
DTSTAMP:20260422T084041Z
DTSTART:20240530T190000Z
DTEND:20240530T215000Z
LOCATION:
SUMMARY:SAZZA
DESCRIPTION:Entradas\nhttps://salavesta.com/events/sazza/
URL:https://salavesta.com/events/sazza/
END:VEVENT
END:VCALENDAR