BEGIN:VCALENDAR
VERSION:2.0
PRODID:-//eventon.com NONSGML v1.0//EN
CALSCALE:GREGORIAN
METHOD:PUBLISH
BEGIN:VEVENT
UID:69e88b050c8ed
DTSTAMP:20260422T084701Z
DTSTART:20240307T200000Z
DTEND:20240307T225000Z
LOCATION:
SUMMARY:MARTIN\,  ODISEO TOUR
DESCRIPTION:Entradas\nhttps://salavesta.com/events/martin-odiseo-tour/
URL:https://salavesta.com/events/martin-odiseo-tour/
END:VEVENT
END:VCALENDAR