BEGIN:VCALENDAR
VERSION:2.0
PRODID:-//eventon.com NONSGML v1.0//EN
CALSCALE:GREGORIAN
METHOD:PUBLISH
BEGIN:VEVENT
UID:69e7330a454e0
DTSTAMP:20260421T081922Z
DTSTART:20240316T200000Z
DTEND:20240316T225000Z
LOCATION:
SUMMARY:SIMONSEN + DJ MODERNO
DESCRIPTION:Entradas\nhttps://salavesta.com/events/simonsen-dj-moderno/
URL:https://salavesta.com/events/simonsen-dj-moderno/
END:VEVENT
END:VCALENDAR