BEGIN:VCALENDAR
VERSION:2.0
PRODID:-//eventon.com NONSGML v1.0//EN
CALSCALE:GREGORIAN
METHOD:PUBLISH
BEGIN:VEVENT
UID:69e732e1e1615
DTSTAMP:20260421T081841Z
DTSTART:20240209T200000Z
DTEND:20240209T225000Z
LOCATION:
SUMMARY:CICLO MENGANITAS: LA HELEN
DESCRIPTION:Entradas\nhttps://salavesta.com/events/ciclo-menganitas-la-hele
 n/
URL:https://salavesta.com/events/ciclo-menganitas-la-helen/
END:VEVENT
END:VCALENDAR