BEGIN:VCALENDAR
VERSION:2.0
PRODID:-//eventon.com NONSGML v1.0//EN
CALSCALE:GREGORIAN
METHOD:PUBLISH
BEGIN:VEVENT
UID:69e731f591439
DTSTAMP:20260421T081445Z
DTSTART:20230907T190000Z
DTEND:20230907T215000Z
LOCATION:
SUMMARY:Carey
DESCRIPTION:Entradas\nhttps://salavesta.com/events/carey/
URL:https://salavesta.com/events/carey/
END:VEVENT
END:VCALENDAR