BEGIN:VCALENDAR
VERSION:2.0
PRODID:-//eventon.com NONSGML v1.0//EN
CALSCALE:GREGORIAN
METHOD:PUBLISH
BEGIN:VEVENT
UID:69e7329b2a784
DTSTAMP:20260421T081731Z
DTSTART:20230602T190000Z
DTEND:20230602T215000Z
LOCATION:
SUMMARY:Fernando Girón
DESCRIPTION:Entradas\nhttps://salavesta.com/events/fernando-giron/
URL:https://salavesta.com/events/fernando-giron/
END:VEVENT
END:VCALENDAR