BEGIN:VCALENDAR
VERSION:2.0
PRODID:-//eventon.com NONSGML v1.0//EN
CALSCALE:GREGORIAN
METHOD:PUBLISH
BEGIN:VEVENT
UID:69ebb7842ebc7
DTSTAMP:20260424T183340Z
DTSTART:20230528T190000Z
DTEND:20230528T215000Z
LOCATION:
SUMMARY:Umen
DESCRIPTION:Entrada libre\nhttps://salavesta.com/events/umen/
URL:https://salavesta.com/events/umen/
END:VEVENT
END:VCALENDAR